BEGIN:VCALENDAR
VERSION:2.0
PRODID:Events Booking
BEGIN:VEVENT
UID:69ebbd2dae267
SUMMARY:8th Stockcar Nationals 2026 Round 1 
DESCRIPTION:
LOCATION:Bexhill Rd\, Hastings\, Saint Leonards-on-sea TN38 8AR\, UK
DTSTART:20260503T110000Z
DTEND:20260503T170000Z
DTSTAMP:20260302T211841Z
ORGANIZER;CN=BRCA Events System:MAILTO:no-reply@mail.brca.org
GEO:50.848627;0.517157
X-APPLE-STRUCTURED-LOCATION;VALUE=URI;X-ADDRESS=Bexhill Rd\, Hastings\, Sai
 nt Leonards-on-sea TN38 8AR\, UK;X-APPLE-RADIUS=72;X-TITLE=Southern Model 
 Oval Car Club:50.848627;0.517157
END:VEVENT
END:VCALENDAR