BEGIN:VCALENDAR
VERSION:2.0
PRODID:Events Booking
BEGIN:VEVENT
UID:69ebbc585c96b
SUMMARY:8th Stockcar Nationals 2026 Round 3
DESCRIPTION:
LOCATION:Broughton Rd\, Stoney Stanton\, Leicester LE9 4JA\, UK
DTSTART:20260816T110000Z
DTEND:20260816T170000Z
DTSTAMP:20260302T212154Z
ORGANIZER;CN=BRCA Events System:MAILTO:no-reply@mail.brca.org
GEO:52.54615;-1.269497
X-APPLE-STRUCTURED-LOCATION;VALUE=URI;X-ADDRESS=Broughton Rd\, Stoney Stant
 on\, Leicester LE9 4JA\, UK;X-APPLE-RADIUS=72;X-TITLE=Radio Stock Cars Lei
 cester :52.54615;-1.269497
END:VEVENT
END:VCALENDAR