BEGIN:VCALENDAR
VERSION:2.0
PRODID:Events Booking
BEGIN:VEVENT
UID:69e90ff7b279e
SUMMARY:10th Off Road Mid West Regionals 2026 Round 3 (Trucks)
DESCRIPTION:
LOCATION:Plough Bank
DTSTART:20260607T070000Z
DTEND:20260607T170000Z
DTSTAMP:20251206T143115Z
ORGANIZER;CN=BRCA Events System:MAILTO:no-reply@mail.brca.org
GEO:52.719485;-2.329894
X-APPLE-STRUCTURED-LOCATION;VALUE=URI;X-ADDRESS=Plough Bank;X-APPLE-RADIUS=
 72;X-TITLE=Telford:52.719485;-2.329894
END:VEVENT
END:VCALENDAR