BEGIN:VCALENDAR
VERSION:2.0
PRODID:Events Booking
BEGIN:VEVENT
UID:69eb8d6700eec
SUMMARY:12th OVAL F1 Stockcars RD4 LOTHIAN JUNIOR 
DESCRIPTION:
LOCATION:Douglas Hall\, Kirknewton EH27 8EB\, UK
DTSTART:20260523T080000Z
DTEND:20260523T150000Z
DTSTAMP:20260111T125257Z
ORGANIZER;CN=BRCA Events System:MAILTO:no-reply@mail.brca.org
GEO:55.90653;-3.375501
X-APPLE-STRUCTURED-LOCATION;VALUE=URI;X-ADDRESS=Douglas Hall\, Kirknewton E
 H27 8EB\, UK;X-APPLE-RADIUS=72;X-TITLE=Lothian Oval Racing Club:55.90653;-
 3.375501
END:VEVENT
END:VCALENDAR