BEGIN:VCALENDAR
VERSION:2.0
PRODID:Events Booking
BEGIN:VEVENT
UID:69eb91f8d9ee3
SUMMARY:12th OVAL F1 Stockcars RD5 SCOTTISH OPEN COALTOWN ADULT 
DESCRIPTION:
LOCATION:Victoria Hall\, Main St\, Coaltown of Balgonie\, Glenrothes KY7 6H
 S\, UK
DTSTART:20260524T080000Z
DTEND:20260524T150000Z
DTSTAMP:20260111T125522Z
ORGANIZER;CN=BRCA Events System:MAILTO:no-reply@mail.brca.org
GEO:56.185528;-3.124467
X-APPLE-STRUCTURED-LOCATION;VALUE=URI;X-ADDRESS=Victoria Hall\, Main St\, C
 oaltown of Balgonie\, Glenrothes KY7 6HS\, UK;X-APPLE-RADIUS=72;X-TITLE=Co
 altown:56.185528;-3.124467
END:VEVENT
END:VCALENDAR